BEGIN:VCALENDAR
VERSION:2.0
PRODID:-//wp-events-plugin.com//7.2.2.1//EN
BEGIN:VEVENT
UID:6@othermonkeybrewing.com
DTSTART:20251012T150000Z
DTEND:20251012T170000Z
DTSTAMP:20250926T183701Z
URL:https://othermonkeybrewing.com/event/omb-acoustic-showcase/
SUMMARY:OMB Acoustic Showcase
DESCRIPTION:Join us for an afternoon of incredible live music at the OMB Ac
 oustic Showcase! Starting at 3pm\, immerse yourself in a vibrant array of 
 acoustic performances by talented local artists.\nPerformers:\nFoxcub and 
 the Big Red\nHayley Betty\nDisjunction\nTime: Music begins at 3pm\nHost: S
 am Young\nCome and enjoy a relaxing Sunday filled with soulful tunes and g
 reat company. Don’t miss this opportunity to support local musicians and
  experience some fantastic acoustic sets!
ATTACH;FMTTYPE=image/jpeg:https://othermonkeybrewing.com/wp-content/upload
 s/2025/09/OMB-Acoustic-Shhowcase-12-10-25-03-scaled.png
END:VEVENT
END:VCALENDAR